BEGIN:VCALENDAR
VERSION:2.0
PRODID:-//jEvents 2.0 for Joomla//EN
CALSCALE:GREGORIAN
METHOD:PUBLISH
BEGIN:VTIMEZONE
TZID:America/Los_Angeles
BEGIN:STANDARD
DTSTART:20291104T010000
RDATE:20300310T030000
TZOFFSETFROM:-0700
TZOFFSETTO:-0800
TZNAME:America/Los_Angeles PST
END:STANDARD
BEGIN:STANDARD
DTSTART:20301103T010000
RDATE:20310309T030000
TZOFFSETFROM:-0700
TZOFFSETTO:-0800
TZNAME:America/Los_Angeles PST
END:STANDARD
BEGIN:DAYLIGHT
DTSTART:20290922T110000
RDATE:20291104T010000
TZOFFSETFROM:-0800
TZOFFSETTO:-0700
TZNAME:America/Los_Angeles PDT
END:DAYLIGHT
BEGIN:DAYLIGHT
DTSTART:20300310T030000
RDATE:20301103T010000
TZOFFSETFROM:-0800
TZOFFSETTO:-0700
TZNAME:America/Los_Angeles PDT
END:DAYLIGHT
END:VTIMEZONE
BEGIN:VEVENT
UID:6263db73a60155fcc51b893a7c363a3e
CATEGORIES:Community
CREATED:20260423T153545
SUMMARY:Las Floralias
DESCRIPTION:Las Floralias Flower Arranging\n \n
X-ALT-DESC;FMTTYPE=text/html:<p>Las Floralias Flower Arranging</p><p>&nbsp;</p>
DTSTAMP:20260424T155850
DTSTART;TZID=America/Los_Angeles:20300923T110000
DTEND;TZID=America/Los_Angeles:20300923T120000
SEQUENCE:0
TRANSP:OPAQUE
END:VEVENT
END:VCALENDAR