BEGIN:VCALENDAR
VERSION:2.0
PRODID:-//jEvents 2.0 for Joomla//EN
CALSCALE:GREGORIAN
METHOD:PUBLISH
BEGIN:VTIMEZONE
TZID:America/Los_Angeles
BEGIN:STANDARD
DTSTART:20151101T010000
RDATE:20160313T030000
TZOFFSETFROM:-0700
TZOFFSETTO:-0800
TZNAME:America/Los_Angeles PST
END:STANDARD
BEGIN:STANDARD
DTSTART:20161106T010000
RDATE:20170312T030000
TZOFFSETFROM:-0700
TZOFFSETTO:-0800
TZNAME:America/Los_Angeles PST
END:STANDARD
BEGIN:STANDARD
DTSTART:20171105T010000
RDATE:20180311T030000
TZOFFSETFROM:-0700
TZOFFSETTO:-0800
TZNAME:America/Los_Angeles PST
END:STANDARD
BEGIN:STANDARD
DTSTART:20181104T010000
RDATE:20190310T030000
TZOFFSETFROM:-0700
TZOFFSETTO:-0800
TZNAME:America/Los_Angeles PST
END:STANDARD
BEGIN:STANDARD
DTSTART:20191103T010000
RDATE:20200308T030000
TZOFFSETFROM:-0700
TZOFFSETTO:-0800
TZNAME:America/Los_Angeles PST
END:STANDARD
BEGIN:STANDARD
DTSTART:20201101T010000
RDATE:20210314T030000
TZOFFSETFROM:-0700
TZOFFSETTO:-0800
TZNAME:America/Los_Angeles PST
END:STANDARD
BEGIN:STANDARD
DTSTART:20211107T010000
RDATE:20220313T030000
TZOFFSETFROM:-0700
TZOFFSETTO:-0800
TZNAME:America/Los_Angeles PST
END:STANDARD
BEGIN:STANDARD
DTSTART:20221106T010000
RDATE:20230312T030000
TZOFFSETFROM:-0700
TZOFFSETTO:-0800
TZNAME:America/Los_Angeles PST
END:STANDARD
BEGIN:STANDARD
DTSTART:20231105T010000
RDATE:20240310T030000
TZOFFSETFROM:-0700
TZOFFSETTO:-0800
TZNAME:America/Los_Angeles PST
END:STANDARD
BEGIN:STANDARD
DTSTART:20241103T010000
RDATE:20250309T030000
TZOFFSETFROM:-0700
TZOFFSETTO:-0800
TZNAME:America/Los_Angeles PST
END:STANDARD
BEGIN:STANDARD
DTSTART:20251102T010000
RDATE:20260308T030000
TZOFFSETFROM:-0700
TZOFFSETTO:-0800
TZNAME:America/Los_Angeles PST
END:STANDARD
BEGIN:STANDARD
DTSTART:20261101T010000
RDATE:20270314T030000
TZOFFSETFROM:-0700
TZOFFSETTO:-0800
TZNAME:America/Los_Angeles PST
END:STANDARD
BEGIN:STANDARD
DTSTART:20271107T010000
RDATE:20280312T030000
TZOFFSETFROM:-0700
TZOFFSETTO:-0800
TZNAME:America/Los_Angeles PST
END:STANDARD
BEGIN:STANDARD
DTSTART:20281105T010000
RDATE:20290311T030000
TZOFFSETFROM:-0700
TZOFFSETTO:-0800
TZNAME:America/Los_Angeles PST
END:STANDARD
BEGIN:STANDARD
DTSTART:20291104T010000
RDATE:20300310T030000
TZOFFSETFROM:-0700
TZOFFSETTO:-0800
TZNAME:America/Los_Angeles PST
END:STANDARD
BEGIN:STANDARD
DTSTART:20301103T010000
RDATE:20310309T030000
TZOFFSETFROM:-0700
TZOFFSETTO:-0800
TZNAME:America/Los_Angeles PST
END:STANDARD
BEGIN:DAYLIGHT
DTSTART:20150617T190000
RDATE:20151101T010000
TZOFFSETFROM:-0800
TZOFFSETTO:-0700
TZNAME:America/Los_Angeles PDT
END:DAYLIGHT
BEGIN:DAYLIGHT
DTSTART:20160313T030000
RDATE:20161106T010000
TZOFFSETFROM:-0800
TZOFFSETTO:-0700
TZNAME:America/Los_Angeles PDT
END:DAYLIGHT
BEGIN:DAYLIGHT
DTSTART:20170312T030000
RDATE:20171105T010000
TZOFFSETFROM:-0800
TZOFFSETTO:-0700
TZNAME:America/Los_Angeles PDT
END:DAYLIGHT
BEGIN:DAYLIGHT
DTSTART:20180311T030000
RDATE:20181104T010000
TZOFFSETFROM:-0800
TZOFFSETTO:-0700
TZNAME:America/Los_Angeles PDT
END:DAYLIGHT
BEGIN:DAYLIGHT
DTSTART:20190310T030000
RDATE:20191103T010000
TZOFFSETFROM:-0800
TZOFFSETTO:-0700
TZNAME:America/Los_Angeles PDT
END:DAYLIGHT
BEGIN:DAYLIGHT
DTSTART:20200308T030000
RDATE:20201101T010000
TZOFFSETFROM:-0800
TZOFFSETTO:-0700
TZNAME:America/Los_Angeles PDT
END:DAYLIGHT
BEGIN:DAYLIGHT
DTSTART:20210314T030000
RDATE:20211107T010000
TZOFFSETFROM:-0800
TZOFFSETTO:-0700
TZNAME:America/Los_Angeles PDT
END:DAYLIGHT
BEGIN:DAYLIGHT
DTSTART:20220313T030000
RDATE:20221106T010000
TZOFFSETFROM:-0800
TZOFFSETTO:-0700
TZNAME:America/Los_Angeles PDT
END:DAYLIGHT
BEGIN:DAYLIGHT
DTSTART:20230312T030000
RDATE:20231105T010000
TZOFFSETFROM:-0800
TZOFFSETTO:-0700
TZNAME:America/Los_Angeles PDT
END:DAYLIGHT
BEGIN:DAYLIGHT
DTSTART:20240310T030000
RDATE:20241103T010000
TZOFFSETFROM:-0800
TZOFFSETTO:-0700
TZNAME:America/Los_Angeles PDT
END:DAYLIGHT
BEGIN:DAYLIGHT
DTSTART:20250309T030000
RDATE:20251102T010000
TZOFFSETFROM:-0800
TZOFFSETTO:-0700
TZNAME:America/Los_Angeles PDT
END:DAYLIGHT
BEGIN:DAYLIGHT
DTSTART:20260308T030000
RDATE:20261101T010000
TZOFFSETFROM:-0800
TZOFFSETTO:-0700
TZNAME:America/Los_Angeles PDT
END:DAYLIGHT
BEGIN:DAYLIGHT
DTSTART:20270314T030000
RDATE:20271107T010000
TZOFFSETFROM:-0800
TZOFFSETTO:-0700
TZNAME:America/Los_Angeles PDT
END:DAYLIGHT
BEGIN:DAYLIGHT
DTSTART:20280312T030000
RDATE:20281105T010000
TZOFFSETFROM:-0800
TZOFFSETTO:-0700
TZNAME:America/Los_Angeles PDT
END:DAYLIGHT
BEGIN:DAYLIGHT
DTSTART:20290311T030000
RDATE:20291104T010000
TZOFFSETFROM:-0800
TZOFFSETTO:-0700
TZNAME:America/Los_Angeles PDT
END:DAYLIGHT
BEGIN:DAYLIGHT
DTSTART:20300310T030000
RDATE:20301103T010000
TZOFFSETFROM:-0800
TZOFFSETTO:-0700
TZNAME:America/Los_Angeles PDT
END:DAYLIGHT
END:VTIMEZONE
BEGIN:VEVENT
UID:aea9942b4062aa3a73b6cf379a7c2f7d
CATEGORIES:Community, Youth
CREATED:20160209T212740
SUMMARY:Celebration Place
DESCRIPTION:Celebration Place is for kids from infants though 12 years old and is a com
 plementary children’s resource to Celebrate Recovery and meets at the same 
 time as the Celebrate Recovery Big Meeting and small groups.\n
So while adu
 lts explore topics that bring healing and wholeness, kids discover the same
  truths in age-appropriate ways!\n
Celebration Place gives kids:\n

Hope fo
 r all the amazing things God has in store for them
Truths that help them ov
 ercome life’s challenges by learning to lean on Jesus
Joy as they embark on
  a wonderful, year-long journey of songs, games, videos, impactful experien
 ces and great conversation
Friendships with other children

X-ALT-DESC;FMTTYPE=text/html:<p style="margin: 0px 0px 15px; padding: 0px; border: 0px; outline: 0px; fo
 nt-size: 14px; color: #555555; font-family: Helvetica, Arial, FreeSans, san
 s-serif; line-height: 23.8px; background-image: initial; background-attachm
 ent: initial; background-position: initial; background-repeat: initial;"><s
 trong style="margin: 0px; padding: 0px; border: 0px; outline: 0px; backgrou
 nd: transparent;">Celebration Place is for kids from infants though 12 year
 s old and is a complementary children’s resource to Celebrate Recovery and 
 meets at the same time as the Celebrate Recovery Big Meeting and small grou
 ps.</strong></p><p style="margin: 0px 0px 15px; padding: 0px; border: 0px; 
 outline: 0px; font-size: 14px; color: #555555; font-family: Helvetica, Aria
 l, FreeSans, sans-serif; line-height: 23.8px; background-image: initial; ba
 ckground-attachment: initial; background-position: initial; background-repe
 at: initial;">So while adults explore topics that bring healing and wholene
 ss, kids discover the same truths in age-appropriate ways!</p><p style="mar
 gin: 0px 0px 15px; padding: 0px; border: 0px; outline: 0px; font-size: 14px
 ; color: #555555; font-family: Helvetica, Arial, FreeSans, sans-serif; line
 -height: 23.8px; background-image: initial; background-attachment: initial;
  background-position: initial; background-repeat: initial;"><b style="margi
 n: 0px; padding: 0px; border: 0px; outline: 0px; background: transparent;">
 Celebration Place gives kids:</b></p><ul style="margin: 0px; padding: 0px 0
 px 0px 15px; border: 0px; outline: 0px; font-size: 14px; list-style-image: 
 none; color: #555555; font-family: Helvetica, Arial, FreeSans, sans-serif; 
 line-height: 23.8px; background-image: initial; background-attachment: init
 ial; background-position: initial; background-repeat: initial;"><li style="
 margin: 0px; padding: 0px; border: 0px; outline: 0px; background: transpare
 nt;">Hope for all the amazing things God has in store for them</li><li styl
 e="margin: 0px; padding: 0px; border: 0px; outline: 0px; background: transp
 arent;">Truths that help them overcome life’s challenges by learning to lea
 n on Jesus</li><li style="margin: 0px; padding: 0px; border: 0px; outline: 
 0px; background: transparent;">Joy as they embark on a wonderful, year-long
  journey of songs, games, videos, impactful experiences and great conversat
 ion</li><li style="margin: 0px; padding: 0px; border: 0px; outline: 0px; ba
 ckground: transparent;">Friendships with other children</li></ul>
CONTACT:Cheryl x304
DTSTAMP:20260421T030003
DTSTART;TZID=America/Los_Angeles:20160617T190000
DTEND;TZID=America/Los_Angeles:20160617T213000
SEQUENCE:0
TRANSP:OPAQUE
END:VEVENT
END:VCALENDAR